BEGIN:VCALENDAR
VERSION:2.0
PRODID:-//Georgia Poetry Society - ECPv6.15.20//NONSGML v1.0//EN
CALSCALE:GREGORIAN
METHOD:PUBLISH
X-WR-CALNAME:Georgia Poetry Society
X-ORIGINAL-URL:https://www.georgiapoetrysociety.org
X-WR-CALDESC:Events for Georgia Poetry Society
REFRESH-INTERVAL;VALUE=DURATION:PT1H
X-Robots-Tag:noindex
X-PUBLISHED-TTL:PT1H
BEGIN:VTIMEZONE
TZID:America/New_York
BEGIN:DAYLIGHT
TZOFFSETFROM:-0500
TZOFFSETTO:-0400
TZNAME:EDT
DTSTART:20250309T070000
END:DAYLIGHT
BEGIN:STANDARD
TZOFFSETFROM:-0400
TZOFFSETTO:-0500
TZNAME:EST
DTSTART:20251102T060000
END:STANDARD
BEGIN:DAYLIGHT
TZOFFSETFROM:-0500
TZOFFSETTO:-0400
TZNAME:EDT
DTSTART:20260308T070000
END:DAYLIGHT
BEGIN:STANDARD
TZOFFSETFROM:-0400
TZOFFSETTO:-0500
TZNAME:EST
DTSTART:20261101T060000
END:STANDARD
BEGIN:DAYLIGHT
TZOFFSETFROM:-0500
TZOFFSETTO:-0400
TZNAME:EDT
DTSTART:20270314T070000
END:DAYLIGHT
BEGIN:STANDARD
TZOFFSETFROM:-0400
TZOFFSETTO:-0500
TZNAME:EST
DTSTART:20271107T060000
END:STANDARD
END:VTIMEZONE
BEGIN:VEVENT
DTSTART;TZID=America/New_York:20260319T190000
DTEND;TZID=America/New_York:20260319T210000
DTSTAMP:20260421T112917
CREATED:20260226T071227Z
LAST-MODIFIED:20260226T071227Z
UID:3272-1773946800-1773954000@www.georgiapoetrysociety.org
SUMMARY:March Open Mic 2026
DESCRIPTION:🎉📚 We’re excited to invite you to our upcoming Poetry-Focused Open Mic Night happening the 3rd Thursday of the month! 🌟🎶 \nWhether you’re a seasoned wordsmith or just getting started\, come on down and share your beautiful verses or simply soak up the magic of spoken word. 📖🎙️ \nThis event is all about celebrating the beauty of poetry in all its forms. So\, grab your friends\, your favorite poems\, and join us for a night filled with heartfelt expressions and poetic vibes. 🎤📜 \nSpecial Guest\nWe are pleased to share that Oleisia Johnson\, recipient of the 2025 Aliki Perroti and Seth Frank Most Promising Young Poet Award\, will be joining us for the March Open Mic. Ms. Johnson’s award‑winning poem\, The Weight She Gives Me\, is a beautiful work that explores themes of identity and belonging. \nOleisia is a Computer Science major at Spelman College\, where she blends her interests in design\, community\, and creative storytelling. We look forward to welcoming her into the GPS community. \nThe event will take place on Zoom and saved to YouTube. Be aware that your poem that is read during the Open Mic will be broadcast on our YouTube channel. \nLet your metaphors bloom and your emotions shine through the power of poetry. We can’t wait to see you there! We like to challenge our members by suggesting a specific poem form\, but please feel free to attend with anything you would like to share! \nDate: March 19th \nTime: 7 PM \nLocation: Zoom Registration – https://tinyurl.com/MarchOpenMic26
URL:https://www.georgiapoetrysociety.org/event/march-open-mic-2026/
LOCATION:Virtual
CATEGORIES:Community Event
ATTACH;FMTTYPE=image/png:https://www.georgiapoetrysociety.org/wp-content/uploads/2026/02/March-26.png
END:VEVENT
END:VCALENDAR